
BEGIN:VCALENDAR
VERSION:2.0
METHOD:PUBLISH
PRODID:-//hacksw/handcal//NONSGML v1.0//EN
BEGIN:VEVENT
UID:JGEGG2058837
DTSTAMP;VALUE=DATE:20091024
DTSTART;VALUE=DATE:20091025
DTEND;VALUE=DATE:20091026
SUMMARY:Saeed Mughal's Fundraising Page
DESCRIPTION:Time to sponsor Saeed Mughal!\n\nMake your donation on their Justgiving page: http://www.run10ksponsorme.org/saeedmughal
BEGIN:VALARM
TRIGGER:-PT7D
ACTION:DISPLAY
DESCRIPTION:Reminder to do something
END:VALARM
END:VEVENT
END:VCALENDAR